BEGIN:VCALENDAR
VERSION:2.0
PRODID:-//ChamberMaster//Event Calendar 2.0//EN
METHOD:PUBLISH
X-PUBLISHED-TTL:P3D
REFRESH-INTERVAL:P3D
CALSCALE:GREGORIAN
BEGIN:VEVENT
DTSTART:20171019T223000Z
DTEND:20171020T030000Z
X-MICROSOFT-CDO-ALLDAYEVENT:FALSE
SUMMARY:Bluebonnet Opry
DESCRIPTION:FEATURING\n\nWalt & Glynis Harfmann\n\nRonnie & Greg Machac\n\nShane Lala
X-ALT-DESC;FMTTYPE=text/html:<strong>FEATURING<br />\nWalt &amp\; Glynis Harfmann<br />\nRonnie &amp\; Greg Machac<br />\nShane Lala</strong>
LOCATION:Silver Wings Ballroom 4100 Highway 105 Brenham\, TX 77833
UID:e.2500.3594
SEQUENCE:3
DTSTAMP:20260423T124500Z
URL:https://business.bellville.com/events/details/bluebonnet-opry-3594
END:VEVENT

END:VCALENDAR
