BEGIN:VCALENDAR
VERSION:2.0
PRODID:-//ChamberMaster//Event Calendar 2.0//EN
METHOD:PUBLISH
X-PUBLISHED-TTL:P3D
REFRESH-INTERVAL:P3D
CALSCALE:GREGORIAN
BEGIN:VEVENT
DTSTART:20181211T190000Z
DTEND:20181212T010000Z
X-MICROSOFT-CDO-ALLDAYEVENT:FALSE
SUMMARY:Blood Drive @ American Legion Post 115
DESCRIPTION:
X-ALT-DESC;FMTTYPE=text/html:
LOCATION:American Legion Hall 988 E Main St Bellville TX 77418
UID:e.2500.7018
SEQUENCE:3
DTSTAMP:20260422T135542Z
URL:https://business.bellville.com/events/details/blood-drive-american-legion-post-115-7018
END:VEVENT

END:VCALENDAR
