BEGIN:VCALENDAR
VERSION:2.0
PRODID:-//ChamberMaster//Event Calendar 2.0//EN
METHOD:PUBLISH
X-PUBLISHED-TTL:P3D
REFRESH-INTERVAL:P3D
CALSCALE:GREGORIAN
BEGIN:VEVENT
DTSTART:20180520T160000Z
DTEND:20180520T230000Z
X-MICROSOFT-CDO-ALLDAYEVENT:FALSE
SUMMARY:Bleiblerville Volunteer Fire Department Fish Fry
DESCRIPTION:Bleiblerville VFD Benefit Fish Fry ~ Fun for the whole family!
X-ALT-DESC;FMTTYPE=text/html:Bleiblerville VFD Benefit Fish Fry ~ Fun for the whole family!&nbsp\;
LOCATION:Bleiblerville Fire Station 3912 FM 2502\, Bleiblerville 78931
UID:e.2500.530
SEQUENCE:3
DTSTAMP:20260423T015416Z
URL:https://business.bellville.com/events/details/bleiblerville-volunteer-fire-department-fish-fry-05-15-2016-530
END:VEVENT

END:VCALENDAR
