BEGIN:VCALENDAR
VERSION:2.0
PRODID:-//ChamberMaster//Event Calendar 2.0//EN
METHOD:PUBLISH
X-PUBLISHED-TTL:P3D
REFRESH-INTERVAL:P3D
CALSCALE:GREGORIAN
BEGIN:VEVENT
DTSTART:20180805T180000Z
DTEND:20180805T220000Z
X-MICROSOFT-CDO-ALLDAYEVENT:FALSE
SUMMARY:Benefit Concert for Randy Wendt
DESCRIPTION:Live Music\n\nAuctions\n\n50/50 Raffle
X-ALT-DESC;FMTTYPE=text/html:Live Music<br />\nAuctions<br />\n50/50 Raffle
LOCATION:The Kenney Store
UID:e.2500.6906
SEQUENCE:3
DTSTAMP:20260422T221821Z
URL:https://business.bellville.com/events/details/benefit-concert-for-randy-wendt-6906
END:VEVENT

END:VCALENDAR
