BEGIN:VCALENDAR
VERSION:2.0
PRODID:-//ChamberMaster//Event Calendar 2.0//EN
METHOD:PUBLISH
X-PUBLISHED-TTL:P3D
REFRESH-INTERVAL:P3D
CALSCALE:GREGORIAN
BEGIN:VEVENT
DTSTART:20171214T000000Z
DTEND:20171214T013000Z
X-MICROSOFT-CDO-ALLDAYEVENT:FALSE
SUMMARY:Bellville Young Professionals Organization meeting at Newman's Castle
DESCRIPTION:
X-ALT-DESC;FMTTYPE=text/html:
LOCATION:
UID:e.2500.3683
SEQUENCE:3
DTSTAMP:20260423T102336Z
URL:https://business.bellville.com/events/details/bellville-young-professionals-organization-meeting-at-newman-s-castle-3683
END:VEVENT

END:VCALENDAR
