BEGIN:VCALENDAR
VERSION:2.0
PRODID:-//ChamberMaster//Event Calendar 2.0//EN
METHOD:PUBLISH
X-PUBLISHED-TTL:P3D
REFRESH-INTERVAL:P3D
CALSCALE:GREGORIAN
BEGIN:VEVENT
DTSTART:20180301T000000Z
DTEND:20180301T013000Z
X-MICROSOFT-CDO-ALLDAYEVENT:FALSE
SUMMARY:Bellville Young Professionals Organization Meet & Greet
DESCRIPTION:
X-ALT-DESC;FMTTYPE=text/html:
LOCATION:Austin County Jail Museum 36 South Bell St Bellville TX 77418
UID:e.2500.3732
SEQUENCE:3
DTSTAMP:20260423T071008Z
URL:https://business.bellville.com/events/details/bellville-young-professionals-organization-meet-greet-3732
END:VEVENT

END:VCALENDAR
