BEGIN:VCALENDAR
VERSION:2.0
PRODID:-//ChamberMaster//Event Calendar 2.0//EN
METHOD:PUBLISH
X-PUBLISHED-TTL:P3D
REFRESH-INTERVAL:P3D
CALSCALE:GREGORIAN
BEGIN:VEVENT
DTSTART:20180523T230000Z
DTEND:20180524T003000Z
X-MICROSOFT-CDO-ALLDAYEVENT:FALSE
SUMMARY:Bellville Young Professionals Organization Meet & Greet
DESCRIPTION:
X-ALT-DESC;FMTTYPE=text/html:
LOCATION:First National Bank of Bellville 100 East Main St. Bellville\, TX 77418
UID:e.2500.3735
SEQUENCE:3
DTSTAMP:20260423T033807Z
URL:https://business.bellville.com/events/details/bellville-young-professionals-organization-meet-greet-05-23-2018-3735
END:VEVENT

END:VCALENDAR
