BEGIN:VCALENDAR
VERSION:2.0
PRODID:-//ChamberMaster//Event Calendar 2.0//EN
METHOD:PUBLISH
X-PUBLISHED-TTL:P3D
REFRESH-INTERVAL:P3D
CALSCALE:GREGORIAN
BEGIN:VEVENT
DTSTART:20180425T230000Z
DTEND:20180426T003000Z
X-MICROSOFT-CDO-ALLDAYEVENT:FALSE
SUMMARY:Bellville Young Professionals Organization Meet & Greet
DESCRIPTION:
X-ALT-DESC;FMTTYPE=text/html:
LOCATION:Phenix Knives 305 East Main St Bellville\, TX 77418
UID:e.2500.3734
SEQUENCE:3
DTSTAMP:20260423T053350Z
URL:https://business.bellville.com/events/details/bellville-young-professionals-organization-meet-greet-04-25-2018-3734
END:VEVENT

END:VCALENDAR
