BEGIN:VCALENDAR
VERSION:2.0
PRODID:-//ChamberMaster//Event Calendar 2.0//EN
METHOD:PUBLISH
X-PUBLISHED-TTL:P3D
REFRESH-INTERVAL:P3D
CALSCALE:GREGORIAN
BEGIN:VEVENT
DTSTART:20180328T230000Z
DTEND:20180329T003000Z
X-MICROSOFT-CDO-ALLDAYEVENT:FALSE
SUMMARY:Bellville Young Professionals Organization Meet & Greet
DESCRIPTION:
X-ALT-DESC;FMTTYPE=text/html:
LOCATION:Bellville Golf & Recreation Club 2426 Hwy 36 N Bellville TX 77418
UID:e.2500.3733
SEQUENCE:3
DTSTAMP:20260423T053351Z
URL:https://business.bellville.com/events/details/bellville-young-professionals-organization-meet-greet-03-28-2018-3733
END:VEVENT

END:VCALENDAR
