BEGIN:VCALENDAR
VERSION:2.0
PRODID:-//ChamberMaster//Event Calendar 2.0//EN
METHOD:PUBLISH
X-PUBLISHED-TTL:P3D
REFRESH-INTERVAL:P3D
CALSCALE:GREGORIAN
BEGIN:VEVENT
DTSTART:20180125T000000Z
DTEND:20180125T013000Z
X-MICROSOFT-CDO-ALLDAYEVENT:FALSE
SUMMARY:Bellville Young Professionals Organization - Meet and Greet
DESCRIPTION:
X-ALT-DESC;FMTTYPE=text/html:
LOCATION:Austin County State Bank 436 South Front St. Bellville\, TX 77418
UID:e.2500.3718
SEQUENCE:3
DTSTAMP:20260423T090557Z
URL:https://business.bellville.com/events/details/bellville-young-professionals-organization-meet-and-greet-3718
END:VEVENT

END:VCALENDAR
