BEGIN:VCALENDAR
VERSION:2.0
PRODID:-//ChamberMaster//Event Calendar 2.0//EN
METHOD:PUBLISH
X-PUBLISHED-TTL:P3D
REFRESH-INTERVAL:P3D
CALSCALE:GREGORIAN
BEGIN:VEVENT
DTSTART:20180930T180000Z
DTEND:20180930T220000Z
X-MICROSOFT-CDO-ALLDAYEVENT:FALSE
SUMMARY:Bellville VFW Variety Shoot
DESCRIPTION:Shot shells provided\n\nRefreshments available
X-ALT-DESC;FMTTYPE=text/html:Shot shells provided<br />\nRefreshments available
LOCATION:Bellville VFW 4041 Hwy 36 N Bellville\, TX 77418
UID:e.2500.6951
SEQUENCE:3
DTSTAMP:20260422T185853Z
URL:https://business.bellville.com/events/details/bellville-vfw-variety-shoot-6951
END:VEVENT

END:VCALENDAR
