BEGIN:VCALENDAR
VERSION:2.0
PRODID:-//ChamberMaster//Event Calendar 2.0//EN
METHOD:PUBLISH
X-PUBLISHED-TTL:P3D
REFRESH-INTERVAL:P3D
CALSCALE:GREGORIAN
BEGIN:VEVENT
DTSTART:20190331T180000Z
DTEND:20190331T210000Z
X-MICROSOFT-CDO-ALLDAYEVENT:FALSE
SUMMARY:Bellville VFW Post 6522 Variety Shoot
DESCRIPTION:Shot Shells Provided\n\nRefreshments Available
X-ALT-DESC;FMTTYPE=text/html:Shot Shells Provided<br />\nRefreshments Available
LOCATION:Bellville VFW Hall 4041 Hwy 36 N Bellville TX 77418
UID:e.2500.7415
SEQUENCE:3
DTSTAMP:20260422T091245Z
URL:https://business.bellville.com/events/details/bellville-vfw-post-6522-variety-shoot-7415
END:VEVENT

END:VCALENDAR
