BEGIN:VCALENDAR
VERSION:2.0
PRODID:-//ChamberMaster//Event Calendar 2.0//EN
METHOD:PUBLISH
X-PUBLISHED-TTL:P3D
REFRESH-INTERVAL:P3D
CALSCALE:GREGORIAN
BEGIN:VEVENT
DTSTART:20160626T180000Z
DTEND:20160626T220000Z
X-MICROSOFT-CDO-ALLDAYEVENT:FALSE
SUMMARY:Bellville VFW Post 6522 Variety Shoot
DESCRIPTION:Bellville VFW Post 4041 Hwy 36 N Varity Shoot Shotguns only Shells provided $2.00 per round Fund raiser for scholarships
X-ALT-DESC;FMTTYPE=text/html:Bellville VFW Post 4041 Hwy 36 N Varity Shoot Shotguns only Shells provided $2.00 per round Fund raiser for scholarships
LOCATION:4041 Hwy 36 N\, Bellville
UID:e.2500.1513
SEQUENCE:3
DTSTAMP:20260424T160439Z
URL:https://business.bellville.com/events/details/bellville-vfw-post-6522-variety-shoot-06-26-2016-1513
END:VEVENT

END:VCALENDAR
