BEGIN:VCALENDAR
VERSION:2.0
PRODID:-//ChamberMaster//Event Calendar 2.0//EN
METHOD:PUBLISH
X-PUBLISHED-TTL:P3D
REFRESH-INTERVAL:P3D
CALSCALE:GREGORIAN
BEGIN:VEVENT
DTSTART:20181208T160000Z
DTEND:20181208T180000Z
X-MICROSOFT-CDO-ALLDAYEVENT:FALSE
SUMMARY:Bellville VFW Post 6522 Honors WW II Veterans
DESCRIPTION:These Veterans' devoted service for our Country and they deserve our unlimited expressions of appreciation.\n\n\n\nRefreshments will be served.
X-ALT-DESC;FMTTYPE=text/html:These Veterans&#39\; devoted service for our Country and they deserve our unlimited expressions of&nbsp\;appreciation.<br />\n<br />\nRefreshments will be served.
LOCATION:Bellville VFW Post 6522 4041 Hwy 36 N Bellville TX 77418
UID:e.2500.7011
SEQUENCE:3
DTSTAMP:20260422T135742Z
URL:https://business.bellville.com/events/details/bellville-vfw-post-6522-honors-ww-ii-veterans-7011
END:VEVENT

END:VCALENDAR
