BEGIN:VCALENDAR
VERSION:2.0
PRODID:-//ChamberMaster//Event Calendar 2.0//EN
METHOD:PUBLISH
X-PUBLISHED-TTL:P3D
REFRESH-INTERVAL:P3D
CALSCALE:GREGORIAN
BEGIN:VEVENT
DTSTART:20180303T180000Z
DTEND:20180303T180000Z
X-MICROSOFT-CDO-ALLDAYEVENT:FALSE
SUMMARY:Bellville VFD Chili & Beans Cook-Off Station #4
DESCRIPTION:Bloody Mary & Margarita Contest\n\n\n\nMusic by Jim Sloan & Country All Stars
X-ALT-DESC;FMTTYPE=text/html:Bloody Mary &amp\; Margarita Contest<br />\n<br />\nMusic by Jim Sloan &amp\; Country All Stars
LOCATION:The Kenney Store
UID:e.2500.3728
SEQUENCE:3
DTSTAMP:20260423T053340Z
URL:https://business.bellville.com/events/details/bellville-vfd-chili-beans-cook-off-station-4-3728
END:VEVENT

END:VCALENDAR
