BEGIN:VCALENDAR
VERSION:2.0
PRODID:-//ChamberMaster//Event Calendar 2.0//EN
METHOD:PUBLISH
X-PUBLISHED-TTL:P3D
REFRESH-INTERVAL:P3D
CALSCALE:GREGORIAN
BEGIN:VEVENT
DTSTART:20190209T010000Z
DTEND:20190209T040000Z
X-MICROSOFT-CDO-ALLDAYEVENT:FALSE
SUMMARY:Bellville Turnverein Pavilion Restoration Project Fundraiser
DESCRIPTION:Music by Easy Money Band\n\n$3 Beer / $5 Wine\n\nDancing
X-ALT-DESC;FMTTYPE=text/html:Music by Easy Money Band<br />\n$3 Beer / $5 Wine<br />\nDancing
LOCATION:Turnverein Pavilion 966 East Main St Bellville TX 77418
UID:e.2500.7021
SEQUENCE:3
DTSTAMP:20260422T104921Z
URL:https://business.bellville.com/events/details/bellville-turnverein-pavilion-restoration-project-fundraiser-7021
END:VEVENT

END:VCALENDAR
