BEGIN:VCALENDAR
VERSION:2.0
PRODID:-//ChamberMaster//Event Calendar 2.0//EN
METHOD:PUBLISH
X-PUBLISHED-TTL:P3D
REFRESH-INTERVAL:P3D
CALSCALE:GREGORIAN
BEGIN:VEVENT
DTSTART:20171009T193000Z
DTEND:20171009T210000Z
X-MICROSOFT-CDO-ALLDAYEVENT:FALSE
SUMMARY:Bellville Town & Country Garden Club Monthly Meeting
DESCRIPTION:TOWN & COUNTRY GARDEN CLUB\, BELLVILLE\, TEXAS\n\n \n\n Next meeting:   Monday\, October 9\, 2017\, 2:30 pm\n\n \n\nLocation:  Sens Activity Center 200 Briar Ridge\, Bellville\, Texas\n\n \n\nProgram:  Autumn and Gourds!\n\nBrenham resident Merlene Schumacher\, local artist and gourd expert will speak about growing gourds and decorating with them for the fall holidays\, including how she paints the gourds to create special art.  She brings a wealth of knowledge as a Master Gardener\, member of the Bluebonnet Garden Club in Brenham since 1991\, tour guide for Ellison Greenhouse\, landscape consultant for Texas A&M\, and Member of the Brenham Art League. Merlene will also bring a selection of gourds that can be purchased.\n\n \n\nNew members and visitors (women and men) are always welcome.\n\n \n\nBellville Town and Country Garden Club on Facebook:\n\nhttps://www.facebook.com/BellvilleTownandCountryGardenClub/
X-ALT-DESC;FMTTYPE=text/html:<strong>TOWN &amp\; COUNTRY GARDEN CLUB\, BELLVILLE\, TEXAS</strong><br />\n&nbsp\;<br />\n&nbsp\;Next meeting:&nbsp\;&nbsp\; Monday\, October 9\, 2017\, 2:30 pm<br />\n&nbsp\;<br />\nLocation:&nbsp\; Sens Activity Center 200 Briar Ridge\, Bellville\, Texas<br />\n&nbsp\;<br />\nProgram: &nbsp\;<span style="color: rgb(34\, 34\, 34)\;"><span style="font-family: times new roman\;">Autumn and Gourds!</span></span><br />\n<span style="color: rgb(34\, 34\, 34)\;"><span style="font-family: times new roman\;">Brenham resident Merlene </span></span><span style="font-family: times new roman\;">Schumacher<span style="color: rgb(34\, 34\, 34)\;">\, local artist and gourd expert will speak about growing gourds and decorating with them for the fall holidays\, including how she paints the gourds to create special art.&nbsp\; She brings a wealth of knowledge as a Master Gardener\, member of the Bluebonnet Garden Club in Brenham since 1991\, tour guide for Ellison Greenhouse\, landscape consultant for Texas A&amp\;M\, and Member of the Brenham Art League. Merlene will also bring a selection of gourds that can be purchased.</span></span><br />\n&nbsp\;<br />\nNew members and visitors (women and men) are always welcome.<br />\n&nbsp\;<br />\nBellville Town and Country Garden Club on Facebook:<br />\n<a href="https://www.facebook.com/BellvilleTownandCountryGardenClub/">https://www.facebook.com/BellvilleTownandCountryGardenClub/</a>
LOCATION:Sens Activity Center\, 200 Briar Ridge\, Bellville\, Texas
UID:e.2500.3624
SEQUENCE:3
DTSTAMP:20260423T131511Z
URL:https://business.bellville.com/events/details/bellville-town-country-garden-club-monthly-meeting-3624
END:VEVENT

END:VCALENDAR
