BEGIN:VCALENDAR
VERSION:2.0
PRODID:-//ChamberMaster//Event Calendar 2.0//EN
METHOD:PUBLISH
X-PUBLISHED-TTL:P3D
REFRESH-INTERVAL:P3D
CALSCALE:GREGORIAN
BEGIN:VEVENT
DTSTART:20180709T133000Z
DTEND:20180713T170000Z
X-MICROSOFT-CDO-ALLDAYEVENT:FALSE
SUMMARY:Bellville Science Camp - B.E.S.T.
DESCRIPTION:Please register by June 29\, 2018
X-ALT-DESC;FMTTYPE=text/html:Please register by June 29\, 2018
LOCATION:Bellville's Spicer AEC
UID:e.2500.6733
SEQUENCE:3
DTSTAMP:20260422T222213Z
URL:https://business.bellville.com/events/details/bellville-science-camp-b-e-s-t-6733
END:VEVENT

END:VCALENDAR
