BEGIN:VCALENDAR
VERSION:2.0
PRODID:-//ChamberMaster//Event Calendar 2.0//EN
METHOD:PUBLISH
X-PUBLISHED-TTL:P3D
REFRESH-INTERVAL:P3D
CALSCALE:GREGORIAN
BEGIN:VEVENT
DTSTART:20161103T223000Z
DTEND:20161103T230000Z
X-MICROSOFT-CDO-ALLDAYEVENT:FALSE
SUMMARY:Bellville Meat Market Ribbon Cutting and Open House
DESCRIPTION:
X-ALT-DESC;FMTTYPE=text/html:
LOCATION:
UID:e.2500.1776
SEQUENCE:3
DTSTAMP:20260424T071737Z
URL:https://business.bellville.com/events/details/bellville-meat-market-ribbon-cutting-and-open-house-1776
END:VEVENT

END:VCALENDAR
