BEGIN:VCALENDAR
VERSION:2.0
PRODID:-//ChamberMaster//Event Calendar 2.0//EN
METHOD:PUBLISH
X-PUBLISHED-TTL:P3D
REFRESH-INTERVAL:P3D
CALSCALE:GREGORIAN
BEGIN:VEVENT
DTSTART:20161023T190000Z
DTEND:20161023T210000Z
X-MICROSOFT-CDO-ALLDAYEVENT:FALSE
SUMMARY:Bellville Masonic Lodge #223 Open House
DESCRIPTION:
X-ALT-DESC;FMTTYPE=text/html:
LOCATION:7 East Glenn at North Holland Bellville\, Texas
UID:e.2500.1796
SEQUENCE:3
DTSTAMP:20260424T101525Z
URL:https://business.bellville.com/events/details/bellville-masonic-lodge-223-open-house-1796
END:VEVENT

END:VCALENDAR
