BEGIN:VCALENDAR
VERSION:2.0
PRODID:-//ChamberMaster//Event Calendar 2.0//EN
METHOD:PUBLISH
X-PUBLISHED-TTL:P3D
REFRESH-INTERVAL:P3D
CALSCALE:GREGORIAN
BEGIN:VEVENT
DTSTART;VALUE=DATE:20170128
DTEND;VALUE=DATE:20170129
TRANSP:TRANSPARENT
X-MICROSOFT-CDO-ALLDAYEVENT:TRUE
SUMMARY:Bellville Little League Try Outs
DESCRIPTION:Little League Try Outs\n\nand\n\nLate Registration\n\nvisit www.bellvillelittleleague.com
X-ALT-DESC;FMTTYPE=text/html:Little League Try Outs<br />\nand<br />\nLate Registration<br />\nvisit <a href="http://www.bellvillelittleleague.com">www.bellvillelittleleague.com</a>
LOCATION:
UID:e.2500.3179
SEQUENCE:3
DTSTAMP:20260424T052416Z
URL:https://business.bellville.com/events/details/bellville-little-league-try-outs-3179
END:VEVENT

END:VCALENDAR
