BEGIN:VCALENDAR
VERSION:2.0
PRODID:-//ChamberMaster//Event Calendar 2.0//EN
METHOD:PUBLISH
X-PUBLISHED-TTL:P3D
REFRESH-INTERVAL:P3D
CALSCALE:GREGORIAN
BEGIN:VEVENT
DTSTART:20190307T230000Z
DTEND:20190308T000000Z
X-MICROSOFT-CDO-ALLDAYEVENT:FALSE
SUMMARY:Bellville Economic Development Meeting
DESCRIPTION:
X-ALT-DESC;FMTTYPE=text/html:
LOCATION:Bellville City Hall 30 S Holland Bellville TX 77418
UID:e.2500.7271
SEQUENCE:3
DTSTAMP:20260422T091240Z
URL:https://business.bellville.com/events/details/bellville-economic-development-meeting-03-07-2019-7271
END:VEVENT

END:VCALENDAR
