BEGIN:VCALENDAR
VERSION:2.0
PRODID:-//ChamberMaster//Event Calendar 2.0//EN
METHOD:PUBLISH
X-PUBLISHED-TTL:P3D
REFRESH-INTERVAL:P3D
CALSCALE:GREGORIAN
BEGIN:VEVENT
DTSTART:20160626T220000Z
DTEND:20160627T000000Z
X-MICROSOFT-CDO-ALLDAYEVENT:FALSE
SUMMARY:Bellville Courthouse History
DESCRIPTION:This month\, the Bellville Historical Society will offer a fascinating history of the Bellville Courthouse.  This presentation will be provided by historian\, Bill Hardt\, on June 26th from 5-7 pm at the Civic Center. Personal stories\, eyewitness accounts\, and recollections of the fire that destroyed the original courthouse will be provided by Joe Ed Lynn\, Mayor of Bellville\, Ernie Koy and Jamie Elick.  Anyone who was a witness to the courthouse fire is invited to provide their accounts and bring artifacts to share.  Please join us for this interesting event.
X-ALT-DESC;FMTTYPE=text/html:<span style="font-size: medium\;"><em><span style="font-family: calibri\,sans-serif\;">This month\, the&nbsp\;Bellville Historical Society will offer a fascinating history of the Bellville Courthouse.&nbsp\; This presentation will be provided by historian\, Bill Hardt\, on <strong>June 26th from 5-7 pm at the Civic Center</strong>. Personal stories\, eyewitness accounts\,&nbsp\;and recollections of the fire that destroyed the original courthouse will be provided by&nbsp\;Joe Ed Lynn\, Mayor of Bellville\, Ernie Koy and Jamie Elick.&nbsp\; Anyone who was a witness to the courthouse fire is invited to provide their accounts and bring artifacts to share.&nbsp\; Please join us for this interesting event.&nbsp\; </span></em></span><br />\n&nbsp\;
LOCATION:Bellville Civic Center
UID:e.2500.1514
SEQUENCE:3
DTSTAMP:20260424T144027Z
URL:https://business.bellville.com/events/details/bellville-courthouse-history-06-26-2016-1514
END:VEVENT

END:VCALENDAR
