BEGIN:VCALENDAR
VERSION:2.0
PRODID:-//ChamberMaster//Event Calendar 2.0//EN
METHOD:PUBLISH
X-PUBLISHED-TTL:P3D
REFRESH-INTERVAL:P3D
CALSCALE:GREGORIAN
BEGIN:VEVENT
DTSTART:20171206T180000Z
DTEND:20171206T190000Z
X-MICROSOFT-CDO-ALLDAYEVENT:FALSE
SUMMARY:Bellville Chamber of Commerce Executive Board Meeting
DESCRIPTION:
X-ALT-DESC;FMTTYPE=text/html:
LOCATION:742 W. Main St. Bellville\, TX 77418
UID:e.2500.3615
SEQUENCE:3
DTSTAMP:20260423T114342Z
URL:https://business.bellville.com/events/details/bellville-chamber-of-commerce-executive-board-meeting-12-06-2017-3615
END:VEVENT

END:VCALENDAR
