BEGIN:VCALENDAR
VERSION:2.0
PRODID:-//ChamberMaster//Event Calendar 2.0//EN
METHOD:PUBLISH
X-PUBLISHED-TTL:P3D
REFRESH-INTERVAL:P3D
CALSCALE:GREGORIAN
BEGIN:VEVENT
DTSTART:20161214T230000Z
DTEND:20161215T010000Z
X-MICROSOFT-CDO-ALLDAYEVENT:FALSE
SUMMARY:Bellville Chamber of Commerce Annual Membership Meeting and Christmas Party
DESCRIPTION:Please RSVP by Monday 12/12/16.\n\n\n\nWe look forward to seeing you!
X-ALT-DESC;FMTTYPE=text/html:Please RSVP by Monday 12/12/16.<br />\n<br />\nWe look forward to seeing you!
LOCATION:Finn Building 301 East Main Bellville\,Texas 77418
UID:e.2500.3149
SEQUENCE:3
DTSTAMP:20260424T054350Z
URL:https://business.bellville.com/events/details/bellville-chamber-of-commerce-annual-membership-meeting-and-christmas-party-3149
END:VEVENT

END:VCALENDAR
