BEGIN:VCALENDAR
VERSION:2.0
PRODID:-//ChamberMaster//Event Calendar 2.0//EN
METHOD:PUBLISH
X-PUBLISHED-TTL:P3D
REFRESH-INTERVAL:P3D
CALSCALE:GREGORIAN
BEGIN:VEVENT
DTSTART:20180224T000000Z
DTEND:20180224T050000Z
X-MICROSOFT-CDO-ALLDAYEVENT:FALSE
SUMMARY:Bellville Chamber of Commerce Annual Banquet
DESCRIPTION:Mardi Gras Jamboree\n\n\n\nMusic by The Red Bulls
X-ALT-DESC;FMTTYPE=text/html:Mardi Gras Jamboree<br />\n<br />\nMusic by The Red Bulls
LOCATION:Austin County Expo Center
UID:e.2500.3715
SEQUENCE:3
DTSTAMP:20260423T071203Z
URL:https://business.bellville.com/events/details/bellville-chamber-of-commerce-annual-banquet-3715
END:VEVENT

END:VCALENDAR
