BEGIN:VCALENDAR
VERSION:2.0
PRODID:-//ChamberMaster//Event Calendar 2.0//EN
METHOD:PUBLISH
X-PUBLISHED-TTL:P3D
REFRESH-INTERVAL:P3D
CALSCALE:GREGORIAN
BEGIN:VEVENT
DTSTART:20170429T230000Z
DTEND:20170430T040000Z
X-MICROSOFT-CDO-ALLDAYEVENT:FALSE
SUMMARY:Bellville Chamber of Commerce Annual Banquet
DESCRIPTION:
X-ALT-DESC;FMTTYPE=text/html:
LOCATION:Emery's Buffalo Creek 10827 Hwy 36 Bellville\, TX 77418
UID:e.2500.3205
SEQUENCE:3
DTSTAMP:20260423T224549Z
URL:https://business.bellville.com/events/details/bellville-chamber-of-commerce-annual-banquet-3205
END:VEVENT

END:VCALENDAR
