BEGIN:VCALENDAR
VERSION:2.0
PRODID:-//ChamberMaster//Event Calendar 2.0//EN
METHOD:PUBLISH
X-PUBLISHED-TTL:P3D
REFRESH-INTERVAL:P3D
CALSCALE:GREGORIAN
BEGIN:VEVENT
DTSTART:20181212T003000Z
DTEND:20181212T020000Z
X-MICROSOFT-CDO-ALLDAYEVENT:FALSE
SUMMARY:Bellville Business Professionals Organization Meet & Greet
DESCRIPTION:Wear your ugly Christmas sweater and win the door prize
X-ALT-DESC;FMTTYPE=text/html:Wear your ugly Christmas sweater and win the door prize
LOCATION:Newman's Castle 1041 Old Hwy 36 Bellville\, TX 77418
UID:e.2500.7014
SEQUENCE:3
DTSTAMP:20260422T135741Z
URL:https://business.bellville.com/events/details/bellville-business-professionals-organization-meet-greet-7014
END:VEVENT

END:VCALENDAR
