BEGIN:VCALENDAR
VERSION:2.0
PRODID:-//ChamberMaster//Event Calendar 2.0//EN
METHOD:PUBLISH
X-PUBLISHED-TTL:P3D
REFRESH-INTERVAL:P3D
CALSCALE:GREGORIAN
BEGIN:VEVENT
DTSTART:20181024T223000Z
DTEND:20181025T010000Z
X-MICROSOFT-CDO-ALLDAYEVENT:FALSE
SUMMARY:Bellville Business Professionals Meet and Greet
DESCRIPTION:
X-ALT-DESC;FMTTYPE=text/html:
LOCATION:The Kenney Store 811 S Loop 497 Kenney\, TX 77452
UID:e.2500.6946
SEQUENCE:3
DTSTAMP:20260422T172257Z
URL:https://business.bellville.com/events/details/bellville-business-professionals-meet-and-greet-6946
END:VEVENT

END:VCALENDAR
