BEGIN:VCALENDAR
VERSION:2.0
PRODID:-//ChamberMaster//Event Calendar 2.0//EN
METHOD:PUBLISH
X-PUBLISHED-TTL:P3D
REFRESH-INTERVAL:P3D
CALSCALE:GREGORIAN
BEGIN:VEVENT
DTSTART:20181110T130000Z
DTEND:20181110T160000Z
X-MICROSOFT-CDO-ALLDAYEVENT:FALSE
SUMMARY:Bellville American Legion Post 115 Pancake Breakfast
DESCRIPTION:
X-ALT-DESC;FMTTYPE=text/html:
LOCATION:Bellville American Legion Hall 988 E Main Bellville TX 77418
UID:e.2500.6994
SEQUENCE:3
DTSTAMP:20260422T154135Z
URL:https://business.bellville.com/events/details/bellville-american-legion-post-115-pancake-breakfast-6994
END:VEVENT

END:VCALENDAR
