BEGIN:VCALENDAR
VERSION:2.0
PRODID:-//ChamberMaster//Event Calendar 2.0//EN
METHOD:PUBLISH
X-PUBLISHED-TTL:P3D
REFRESH-INTERVAL:P3D
CALSCALE:GREGORIAN
BEGIN:VEVENT
DTSTART:20190410T170000Z
DTEND:20190410T180000Z
X-MICROSOFT-CDO-ALLDAYEVENT:FALSE
SUMMARY:BBPO Lunch Mob
DESCRIPTION:
X-ALT-DESC;FMTTYPE=text/html:
LOCATION:Newman's Bakery 504 E Main St Bellville\, TX 77418
UID:e.2500.7234
SEQUENCE:3
DTSTAMP:20260420T090052Z
URL:https://business.bellville.com/events/details/bbpo-lunch-mob-7234
END:VEVENT

END:VCALENDAR
