BEGIN:VCALENDAR
VERSION:2.0
PRODID:-//ChamberMaster//Event Calendar 2.0//EN
METHOD:PUBLISH
X-PUBLISHED-TTL:P3D
REFRESH-INTERVAL:P3D
CALSCALE:GREGORIAN
BEGIN:VEVENT
DTSTART:20171021T130000Z
DTEND:20171021T220000Z
X-MICROSOFT-CDO-ALLDAYEVENT:FALSE
SUMMARY:Battle Ground to Breaking Ground
DESCRIPTION:October 21\, 2017- WORKSHOP   About: Ag Business Workshop for veterans\, individuals with disabilities\, beginning farmer/ranchers\, and anyone interested in starting an ag business. o Workshop sessions will include: ? Agriculture business start-up ? Business plan development ? Possibilities for farming/ranching with a disability ? Financial funding sources for farming/ranching\, marketing ? Resources to support agriculture business operations   Time: 8:00 am-5:00 pm   Location: Prairie View A&M University\, Carden Waller Extension Building\, 250 E.M. Norris Street\, Prairie View\, TX 77446   Cost: FREE (Sponsored by Prairie View A&M Cooperative Extension)
X-ALT-DESC;FMTTYPE=text/html:October 21\, 2017- WORKSHOP &bull\; About: Ag Business Workshop for veterans\, individuals with disabilities\, beginning farmer/ranchers\, and anyone interested in starting an ag business. o Workshop sessions will include: ? Agriculture business start-up ? Business plan development ? Possibilities for farming/ranching with a disability ? Financial funding sources for farming/ranching\, marketing ? Resources to support agriculture business operations &bull\; Time: 8:00 am-5:00 pm &bull\; Location: Prairie View A&amp\;M University\, Carden Waller Extension Building\, 250 E.M. Norris Street\, Prairie View\, TX 77446 &bull\; Cost: FREE (Sponsored by Prairie View A&amp\;M Cooperative Extension)
LOCATION:Prairie View A&M University (Main Campus)\, Carden-Waller Extension Building Auditorium
UID:e.2500.3633
SEQUENCE:3
DTSTAMP:20260423T124646Z
URL:https://business.bellville.com/events/details/battle-ground-to-breaking-ground-3633
END:VEVENT

END:VCALENDAR
