BEGIN:VCALENDAR
VERSION:2.0
PRODID:-//ChamberMaster//Event Calendar 2.0//EN
METHOD:PUBLISH
X-PUBLISHED-TTL:P3D
REFRESH-INTERVAL:P3D
CALSCALE:GREGORIAN
BEGIN:VEVENT
DTSTART;VALUE=DATE:20160409
DTEND;VALUE=DATE:20160410
TRANSP:TRANSPARENT
X-MICROSOFT-CDO-ALLDAYEVENT:TRUE
SUMMARY:Battle at the Brazos Mud Run
DESCRIPTION:RUNNING MUD RUNNING 10K BEGINNER\n\n \n\nThe 3rd annual Battle at the Brazos Mud Run takes place on a scenic\, all-terrain\, point-to-point obstacle course located right in the heart of the country. The event includes plenty of meals\, snacks\, refreshments and activities for people of all kinds. All proceeds will benefit the Faith Academy of Bellville Booster Club\, which is a program that helps athletes and students reach their full potential in a friendly\, supportive\, Christian atmosphere. \n\n\nEach participant receives an event t-shirt. \n\nFood and drinks are available on site for purchase\, water is provided to participants on the course.\n\nArrival\, Parking and other detailed information will be updated one - two months before the event takes place.
X-ALT-DESC;FMTTYPE=text/html:RUNNING&bull\;MUD RUNNING&bull\;10K&bull\;BEGINNER\n<div>\n<div>&nbsp\;</div>\n\n<div>The 3rd annual Battle at the Brazos Mud Run takes place on a scenic\, all-terrain\, point-to-point obstacle course located right in the heart of the country. The event includes plenty of meals\, snacks\, refreshments and activities for people of all kinds. All proceeds will benefit the Faith Academy of Bellville Booster Club\, which is a program that helps athletes and students reach their full potential in a friendly\, supportive\, Christian atmosphere.&nbsp\;</div>\n\n<div>\n<p style="margin: 1em 0px\; color: rgb(85\, 85\, 85)\; line-height: 24px\; letter-spacing: 0.24px\; font-family: Arial\, Helvetica\, sans-serif\; font-size: 14px\; background-color: rgb(255\, 255\, 255)\;">Each participant receives an event t-shirt.&nbsp\;</p>\n\n<p style="margin: 1em 0px\; color: rgb(85\, 85\, 85)\; line-height: 24px\; letter-spacing: 0.24px\; font-family: Arial\, Helvetica\, sans-serif\; font-size: 14px\; background-color: rgb(255\, 255\, 255)\;">Food and drinks are available on site for purchase\, water is provided to participants on the course.</p>\n\n<p style="margin: 1em 0px\; color: rgb(85\, 85\, 85)\; line-height: 24px\; letter-spacing: 0.24px\; font-family: Arial\, Helvetica\, sans-serif\; font-size: 14px\; background-color: rgb(255\, 255\, 255)\;">Arrival\, Parking and other detailed information will be updated one - two months before the event takes place.&nbsp\;</p>\n</div>\n</div>\n
LOCATION:Newsom Rd. Bellville\, TX 77418
UID:e.2500.523
SEQUENCE:3
DTSTAMP:20260424T174130Z
URL:https://business.bellville.com/events/details/battle-at-the-brazos-mud-run-04-09-2016-523
END:VEVENT

END:VCALENDAR
