BEGIN:VCALENDAR
VERSION:2.0
PRODID:-//ChamberMaster//Event Calendar 2.0//EN
METHOD:PUBLISH
X-PUBLISHED-TTL:P3D
REFRESH-INTERVAL:P3D
CALSCALE:GREGORIAN
BEGIN:VEVENT
DTSTART:20180505T110000Z
DTEND:20180505T220000Z
X-MICROSOFT-CDO-ALLDAYEVENT:FALSE
SUMMARY:Bass Fishing Tournament
DESCRIPTION:
X-ALT-DESC;FMTTYPE=text/html:
LOCATION:The Kenney Store
UID:e.2500.6581
SEQUENCE:3
DTSTAMP:20260423T015304Z
URL:https://business.bellville.com/events/details/bass-fishing-tournament-6581
END:VEVENT

END:VCALENDAR
