BEGIN:VCALENDAR
VERSION:2.0
PRODID:-//ChamberMaster//Event Calendar 2.0//EN
METHOD:PUBLISH
X-PUBLISHED-TTL:P3D
REFRESH-INTERVAL:P3D
CALSCALE:GREGORIAN
BEGIN:VEVENT
DTSTART:20180815T140000Z
DTEND:20180815T220000Z
X-MICROSOFT-CDO-ALLDAYEVENT:FALSE
SUMMARY:Basic QuickBooks Workshop
DESCRIPTION:This is an all-day\, basic level course\, intended for people who have either no experience or limited experience using the QuickBooks software. You should be familiar with Windows on a PC. This class will not teach the online version of QuickBooks. Each attendee will have a desktop computer to use during the class . . . and be given reference materials to keep. CLASS DATE: Wednesday\, August 15\, 2018 . . . 9:00 am - 5:00 pm\, with an hour off for lunch. (Lunch is not provided.) LOCATION: A.W. Hodde\, Jr. Technical Education Center\, 2910 South Blue Bell Road\, Brenham TX 77833 TOPICS TO BE COVERED: Invoices Setting up your records Bank reconciliation Accounts payable & receivable Deposits and checks Basic reports\, transaction reports and sales tax reports INSTRUCTOR: Julie Gilmer\, CPA\, QuickBooks Pro Advisor Class size is limited.
X-ALT-DESC;FMTTYPE=text/html:This is an all-day\, basic level course\, intended for people who have either no experience or limited experience using the QuickBooks software. You should be familiar with Windows on a PC. This class will not teach the online version of QuickBooks. Each attendee will have a desktop computer to use during the class . . . and be given reference materials to keep. CLASS DATE: Wednesday\, August 15\, 2018 . . . 9:00 am - 5:00 pm\, with an hour off for lunch. (Lunch is not provided.) LOCATION: A.W. Hodde\, Jr. Technical Education Center\, 2910 South Blue Bell Road\, Brenham TX 77833 TOPICS TO BE COVERED: Invoices Setting up your records Bank reconciliation Accounts payable &amp\; receivable Deposits and checks Basic reports\, transaction reports and sales tax reports INSTRUCTOR: Julie Gilmer\, CPA\, QuickBooks Pro Advisor Class size is limited.
LOCATION:Blinn College\, Brenham TX\, 2910 South Blue Bell Road Brenham\, Texas 77833
UID:e.2500.6885
SEQUENCE:3
DTSTAMP:20260422T204028Z
URL:https://business.bellville.com/events/details/basic-quickbooks-workshop-08-15-2018-6885
END:VEVENT

END:VCALENDAR
