BEGIN:VCALENDAR
VERSION:2.0
PRODID:-//ChamberMaster//Event Calendar 2.0//EN
METHOD:PUBLISH
X-PUBLISHED-TTL:P3D
REFRESH-INTERVAL:P3D
CALSCALE:GREGORIAN
BEGIN:VEVENT
DTSTART:20180524T140000Z
DTEND:20180524T220000Z
X-MICROSOFT-CDO-ALLDAYEVENT:FALSE
SUMMARY:Basic QuickBooks Workshop
DESCRIPTION:This is an all-day\, basic level course\, intended for people who have either no experience or limited experience using the QuickBooks software. You should be familiar with Windows on a PC. This class will not teach the online version of QuickBooks. Each attendee will have a desktop computer to use during the class . . . and be given reference materials to keep.
X-ALT-DESC;FMTTYPE=text/html:This is an all-day\, basic level course\, intended for people who have either no experience or limited experience using the QuickBooks software. You should be familiar with Windows on a PC. This class will not teach the online version of QuickBooks. Each attendee will have a desktop computer to use during the class . . . and be given reference materials to keep.
LOCATION:A.W. Hodde\, Jr.\, Technical Education Center 2910 S. Blue Bell Rd Brenham. TX 77833 979-830-4443
UID:e.2500.4766
SEQUENCE:3
DTSTAMP:20260423T014434Z
URL:https://business.bellville.com/events/details/basic-quickbooks-workshop-05-24-2018-4766
END:VEVENT

END:VCALENDAR
