BEGIN:VCALENDAR
VERSION:2.0
PRODID:-//ChamberMaster//Event Calendar 2.0//EN
METHOD:PUBLISH
X-PUBLISHED-TTL:P3D
REFRESH-INTERVAL:P3D
CALSCALE:GREGORIAN
BEGIN:VEVENT
DTSTART:20170603T140000Z
DTEND:20170603T170000Z
X-MICROSOFT-CDO-ALLDAYEVENT:FALSE
SUMMARY:Bake Sale
DESCRIPTION:Bleiblerville Education Extension Club
X-ALT-DESC;FMTTYPE=text/html:Bleiblerville Education Extension Club
LOCATION:Bellville Farmers Market at the Jim Bishop Pavillion
UID:e.2500.3400
SEQUENCE:3
DTSTAMP:20260423T205345Z
URL:https://business.bellville.com/events/details/bake-sale-3400
END:VEVENT

END:VCALENDAR
