BEGIN:VCALENDAR
VERSION:2.0
PRODID:-//ChamberMaster//Event Calendar 2.0//EN
METHOD:PUBLISH
X-PUBLISHED-TTL:P3D
REFRESH-INTERVAL:P3D
CALSCALE:GREGORIAN
BEGIN:VEVENT
DTSTART:20180310T160000Z
DTEND:20180310T200000Z
X-MICROSOFT-CDO-ALLDAYEVENT:FALSE
SUMMARY:BACK THE BLUE 5K Benefitting CASA for Kids
DESCRIPTION:Bellville Police Department is proud to partner with Back the Blue 5K to host a fun filled day supporting local law enforcement. Activities for the day include a 5K Race/Walk\, A one Mile Fun Run\, and so much More!\n\n5K RACE STARTS AT 10:00 AM WITH ONE MILE FUN STARTING AT 10:45 AM. Community activities to follow.\n\nMoney raised from this event will go to help CASA for Kids of South Central Texas serving Austin\, Colorado\, Waller and Washington Counties continue their mission of speaking up for children in the foster care system.
X-ALT-DESC;FMTTYPE=text/html:<span style="color: rgb(51\, 51\, 51)\; background-color: transparent\;"><span style="font-family: tahoma\;">Bellville Police Department is proud to partner with Back the Blue 5K to host a fun filled day supporting local law enforcement. Activities for the day include a 5K Race/Walk\, A one Mile Fun Run\, and so much More!<br />\n5K RACE STARTS AT 10:00 AM WITH ONE MILE FUN STARTING AT 10:45 AM. Community activities to follow.</span></span><br />\n<span style="color: rgb(51\, 51\, 51)\; font-family: tahoma\; font-size: 14px\; background-color: transparent\;">Money raised from this event will go to help CASA for Kids of South Central Texas serving Austin\, Colorado\, Waller and Washington Counties continue their mission of speaking up for children in the foster care system.&nbsp\;</span>
LOCATION:Clark Park 650 N Holland Street Bellville\, TX
UID:e.2500.3746
SEQUENCE:3
DTSTAMP:20260423T053426Z
URL:https://business.bellville.com/events/details/back-the-blue-5k-benefitting-casa-for-kids-3746
END:VEVENT

END:VCALENDAR
