BEGIN:VCALENDAR
VERSION:2.0
PRODID:-//ChamberMaster//Event Calendar 2.0//EN
METHOD:PUBLISH
X-PUBLISHED-TTL:P3D
REFRESH-INTERVAL:P3D
CALSCALE:GREGORIAN
BEGIN:VEVENT
DTSTART:20190406T130000Z
DTEND:20190406T190000Z
X-MICROSOFT-CDO-ALLDAYEVENT:FALSE
SUMMARY:Back the Blue 5K
DESCRIPTION:
X-ALT-DESC;FMTTYPE=text/html:
LOCATION:Clark Park
UID:e.2500.7254
SEQUENCE:3
DTSTAMP:20260420T084604Z
URL:https://business.bellville.com/events/details/back-the-blue-5k-7254
END:VEVENT

END:VCALENDAR
