BEGIN:VCALENDAR
VERSION:2.0
PRODID:-//ChamberMaster//Event Calendar 2.0//EN
METHOD:PUBLISH
X-PUBLISHED-TTL:P3D
REFRESH-INTERVAL:P3D
CALSCALE:GREGORIAN
BEGIN:VEVENT
DTSTART:20170806T170000Z
DTEND:20170806T230000Z
X-MICROSOFT-CDO-ALLDAYEVENT:FALSE
SUMMARY:Back Forty Showcase Sunday with Jody Booth and Tracy Byrd
DESCRIPTION:Jody Booth's Showcase Sunday\n\npresents\n\nJODY BOOTH & TRACY BYRD
X-ALT-DESC;FMTTYPE=text/html:Jody Booth&#39\;s Showcase Sunday<br />\npresents<br />\nJODY BOOTH &amp\; TRACY BYRD
LOCATION:The Kenney Store
UID:e.2500.3576
SEQUENCE:3
DTSTAMP:20260423T162637Z
URL:https://business.bellville.com/events/details/back-forty-showcase-sunday-with-jody-booth-and-tracy-byrd-3576
END:VEVENT

END:VCALENDAR
