BEGIN:VCALENDAR
VERSION:2.0
PRODID:-//ChamberMaster//Event Calendar 2.0//EN
METHOD:PUBLISH
X-PUBLISHED-TTL:P3D
REFRESH-INTERVAL:P3D
CALSCALE:GREGORIAN
BEGIN:VEVENT
DTSTART:20190226T160000Z
DTEND:20190303T000000Z
X-MICROSOFT-CDO-ALLDAYEVENT:FALSE
SUMMARY:Ayala Bar Event @ Coco and Duckie
DESCRIPTION:
X-ALT-DESC;FMTTYPE=text/html:
LOCATION:8 N Holland St Bellville TX 77418
UID:e.2500.7403
SEQUENCE:3
DTSTAMP:20260422T090718Z
URL:https://business.bellville.com/events/details/ayala-bar-event-coco-and-duckie-7403
END:VEVENT

END:VCALENDAR
