BEGIN:VCALENDAR
VERSION:2.0
PRODID:-//ChamberMaster//Event Calendar 2.0//EN
METHOD:PUBLISH
X-PUBLISHED-TTL:P3D
REFRESH-INTERVAL:P3D
CALSCALE:GREGORIAN
BEGIN:VEVENT
DTSTART:20181111T200000Z
DTEND:20181111T210000Z
X-MICROSOFT-CDO-ALLDAYEVENT:FALSE
SUMMARY:Austin County Veterans' Day Service
DESCRIPTION:
X-ALT-DESC;FMTTYPE=text/html:
LOCATION:988 E Main St Bellville TX 77418
UID:e.2500.6995
SEQUENCE:3
DTSTAMP:20260422T155509Z
URL:https://business.bellville.com/events/details/austin-county-veterans-day-service-6995
END:VEVENT

END:VCALENDAR
