BEGIN:VCALENDAR
VERSION:2.0
PRODID:-//ChamberMaster//Event Calendar 2.0//EN
METHOD:PUBLISH
X-PUBLISHED-TTL:P3D
REFRESH-INTERVAL:P3D
CALSCALE:GREGORIAN
BEGIN:VEVENT
DTSTART:20171111T200000Z
DTEND:20171111T220000Z
X-MICROSOFT-CDO-ALLDAYEVENT:FALSE
SUMMARY:Austin County Veterans Day Celebration
DESCRIPTION:
X-ALT-DESC;FMTTYPE=text/html:
LOCATION:Veterans Memorial Austin County Fairgrounds
UID:e.2500.3679
SEQUENCE:3
DTSTAMP:20260423T113943Z
URL:https://business.bellville.com/events/details/austin-county-veterans-day-celebration-3679
END:VEVENT

END:VCALENDAR
