BEGIN:VCALENDAR
VERSION:2.0
PRODID:-//ChamberMaster//Event Calendar 2.0//EN
METHOD:PUBLISH
X-PUBLISHED-TTL:P3D
REFRESH-INTERVAL:P3D
CALSCALE:GREGORIAN
BEGIN:VEVENT
DTSTART:20160928T220000Z
DTEND:20160929T000000Z
X-MICROSOFT-CDO-ALLDAYEVENT:FALSE
SUMMARY:Austin County State Bank Relay for Life Fundraiser
DESCRIPTION:All proceeds benefit the American Cancer Society
X-ALT-DESC;FMTTYPE=text/html:All proceeds benefit the American Cancer Society
LOCATION:
UID:e.2500.1773
SEQUENCE:3
DTSTAMP:20260424T094407Z
URL:https://business.bellville.com/events/details/austin-county-state-bank-relay-for-life-fundraiser-1773
END:VEVENT

END:VCALENDAR
