BEGIN:VCALENDAR
VERSION:2.0
PRODID:-//ChamberMaster//Event Calendar 2.0//EN
METHOD:PUBLISH
X-PUBLISHED-TTL:P3D
REFRESH-INTERVAL:P3D
CALSCALE:GREGORIAN
BEGIN:VEVENT
DTSTART:20180627T170000Z
DTEND:20180627T210000Z
X-MICROSOFT-CDO-ALLDAYEVENT:FALSE
SUMMARY:Austin County Sheriff's Office 1st Annual Summer Day
DESCRIPTION:Children ages 5-12 are welcome\n\nSnow Cones\n\nWater Slide\n\nBounce House
X-ALT-DESC;FMTTYPE=text/html:Children ages 5-12 are welcome<br />\nSnow Cones<br />\nWater Slide<br />\nBounce House
LOCATION:Thaemer Park 518 S. Matthews Bellville\, TX 77418
UID:e.2500.6881
SEQUENCE:3
DTSTAMP:20260423T014808Z
URL:https://business.bellville.com/events/details/austin-county-sheriff-s-office-1st-annual-summer-day-6881
END:VEVENT

END:VCALENDAR
