BEGIN:VCALENDAR
VERSION:2.0
PRODID:-//ChamberMaster//Event Calendar 2.0//EN
METHOD:PUBLISH
X-PUBLISHED-TTL:P3D
REFRESH-INTERVAL:P3D
CALSCALE:GREGORIAN
BEGIN:VEVENT
DTSTART:20160520T220000Z
DTEND:20160521T010000Z
X-MICROSOFT-CDO-ALLDAYEVENT:FALSE
SUMMARY:Austin County Jail Museum Open House
DESCRIPTION:You're invited to an Open House at the Austin County Museum showcasing a hand~crafted quilt on loan from Mr. Allen Hintz (Great Grandson of Joachim Hintz\, builder of Bellville Turnverein.\n\n\n\n Refreshments and appetizers will be served.\n\n\n\nHosted by Austin County Museum Association and Bellville Historical Society
X-ALT-DESC;FMTTYPE=text/html:<br />\n<span style="font-size: 14px\;"><span style="font-family: comic sans ms\;"><span style="font-size: 20px\;">You&#39\;re invited to an Open House at the Austin County Museum showcasing a hand~crafted quilt on loan from Mr. Allen Hintz (Great Grandson of Joachim Hintz\, builder of Bellville Turnverein.</span><br />\n<br />\n&nbsp\;Refreshments and appetizers will be served.<br />\n<br />\nHosted by Austin County Museum Association and Bellville Historical Society</span></span><br />\n<br />\n&nbsp\;
LOCATION:Austin County Jail Museum 36 S. Bell St. Bellville\, TX 77418
UID:e.2500.1503
SEQUENCE:3
DTSTAMP:20260424T173542Z
URL:https://business.bellville.com/events/details/austin-county-jail-museum-open-house-05-20-2016-1503
END:VEVENT

END:VCALENDAR
