BEGIN:VCALENDAR
VERSION:2.0
PRODID:-//ChamberMaster//Event Calendar 2.0//EN
METHOD:PUBLISH
X-PUBLISHED-TTL:P3D
REFRESH-INTERVAL:P3D
CALSCALE:GREGORIAN
BEGIN:VEVENT
DTSTART:20160923T170000Z
DTEND:20160923T190000Z
X-MICROSOFT-CDO-ALLDAYEVENT:FALSE
SUMMARY:Austin County GOP 2016 Headquarters Open House
DESCRIPTION:
X-ALT-DESC;FMTTYPE=text/html:
LOCATION:
UID:e.2500.1749
SEQUENCE:3
DTSTAMP:20260424T111510Z
URL:https://business.bellville.com/events/details/austin-county-gop-2016-headquarters-open-house-1749
END:VEVENT

END:VCALENDAR
