BEGIN:VCALENDAR
VERSION:2.0
PRODID:-//ChamberMaster//Event Calendar 2.0//EN
METHOD:PUBLISH
X-PUBLISHED-TTL:P3D
REFRESH-INTERVAL:P3D
CALSCALE:GREGORIAN
BEGIN:VEVENT
DTSTART;VALUE=DATE:20170225
DTEND;VALUE=DATE:20170226
TRANSP:TRANSPARENT
X-MICROSOFT-CDO-ALLDAYEVENT:TRUE
SUMMARY:Austin County Go Texan Day
DESCRIPTION:11am - Domino Tournament\n\n1pm - Horseshoe Tournament\n\n3pm - Washer Tournament\n\n7pm - Auction\n\n9pm-12pm - Dance featuring Jake Hooker (dance tickets $15)
X-ALT-DESC;FMTTYPE=text/html:11am - Domino Tournament<br />\n1pm - Horseshoe Tournament<br />\n3pm - Washer Tournament<br />\n7pm - Auction<br />\n9pm-12pm - Dance featuring Jake Hooker (dance tickets $15)<br />\n&nbsp\;
LOCATION:Austin County Fairgrounds Bellville\, Texas
UID:e.2500.3186
SEQUENCE:3
DTSTAMP:20260424T034305Z
URL:https://business.bellville.com/events/details/austin-county-go-texan-day-3186
END:VEVENT

END:VCALENDAR
