BEGIN:VCALENDAR
VERSION:2.0
PRODID:-//ChamberMaster//Event Calendar 2.0//EN
METHOD:PUBLISH
X-PUBLISHED-TTL:P3D
REFRESH-INTERVAL:P3D
CALSCALE:GREGORIAN
BEGIN:VEVENT
DTSTART:20190217T013000Z
DTEND:20190217T055500Z
X-MICROSOFT-CDO-ALLDAYEVENT:FALSE
SUMMARY:Austin County Go Texan Dance & Auction
DESCRIPTION:
X-ALT-DESC;FMTTYPE=text/html:
LOCATION:Austin County Fair Convention & Expo Center 1076 Hwy 159 E Bellville TX 77418
UID:e.2500.7255
SEQUENCE:3
DTSTAMP:20260422T104415Z
URL:https://business.bellville.com/events/details/austin-county-go-texan-dance-auction-7255
END:VEVENT

END:VCALENDAR
