BEGIN:VCALENDAR
VERSION:2.0
PRODID:-//ChamberMaster//Event Calendar 2.0//EN
METHOD:PUBLISH
X-PUBLISHED-TTL:P3D
REFRESH-INTERVAL:P3D
CALSCALE:GREGORIAN
BEGIN:VEVENT
DTSTART:20160221T013000Z
DTEND:20160221T050000Z
X-MICROSOFT-CDO-ALLDAYEVENT:FALSE
SUMMARY:Austin County Go Texan Dance
DESCRIPTION:Dance and Auction: 7:30 pm   12:00am
X-ALT-DESC;FMTTYPE=text/html:Dance and Auction: 7:30 pm &ndash\; 12:00am
LOCATION:Austin County Fair Convention & Expo Center: 1076 E Hill\, Bellville 77418
UID:e.2500.311
SEQUENCE:3
DTSTAMP:20260424T204251Z
URL:https://business.bellville.com/events/details/austin-county-go-texan-dance-02-20-2016-311
END:VEVENT

END:VCALENDAR
